BEGIN:VCALENDAR
VERSION:2.0
PRODID:-//Northshore Community Foundation - ECPv6.15.20//NONSGML v1.0//EN
CALSCALE:GREGORIAN
METHOD:PUBLISH
X-ORIGINAL-URL:https://northshorefoundation.org
X-WR-CALDESC:Events for Northshore Community Foundation
REFRESH-INTERVAL;VALUE=DURATION:PT1H
X-Robots-Tag:noindex
X-PUBLISHED-TTL:PT1H
BEGIN:VTIMEZONE
TZID:America/Chicago
BEGIN:DAYLIGHT
TZOFFSETFROM:-0600
TZOFFSETTO:-0500
TZNAME:CDT
DTSTART:20240310T080000
END:DAYLIGHT
BEGIN:STANDARD
TZOFFSETFROM:-0500
TZOFFSETTO:-0600
TZNAME:CST
DTSTART:20241103T070000
END:STANDARD
BEGIN:DAYLIGHT
TZOFFSETFROM:-0600
TZOFFSETTO:-0500
TZNAME:CDT
DTSTART:20250309T080000
END:DAYLIGHT
BEGIN:STANDARD
TZOFFSETFROM:-0500
TZOFFSETTO:-0600
TZNAME:CST
DTSTART:20251102T070000
END:STANDARD
BEGIN:DAYLIGHT
TZOFFSETFROM:-0600
TZOFFSETTO:-0500
TZNAME:CDT
DTSTART:20260308T080000
END:DAYLIGHT
BEGIN:STANDARD
TZOFFSETFROM:-0500
TZOFFSETTO:-0600
TZNAME:CST
DTSTART:20261101T070000
END:STANDARD
END:VTIMEZONE
BEGIN:VEVENT
DTSTART;TZID=America/Chicago:20250426T100000
DTEND;TZID=America/Chicago:20250426T110000
DTSTAMP:20260425T224018
CREATED:20250404T150309Z
LAST-MODIFIED:20250404T150309Z
UID:2013-1745661600-1745665200@northshorefoundation.org
SUMMARY:Path of Remembrance
DESCRIPTION:
URL:https://northshorefoundation.org/event/path-of-remembrance/
LOCATION:Louisiana Organ Procurement Agency
ATTACH;FMTTYPE=image/jpeg:https://northshorefoundation.org/wp-content/uploads/2025/04/lopa.jpg
END:VEVENT
BEGIN:VEVENT
DTSTART;TZID=America/Chicago:20250426T110000
DTEND;TZID=America/Chicago:20250426T170000
DTSTAMP:20260425T224018
CREATED:20250404T150129Z
LAST-MODIFIED:20250404T150129Z
UID:2009-1745665200-1745686800@northshorefoundation.org
SUMMARY:20th Annual Crawfish Cook-Off
DESCRIPTION:
URL:https://northshorefoundation.org/event/20th-annual-crawfish-cook-off/
LOCATION:Fritchie Park
ATTACH;FMTTYPE=image/png:https://northshorefoundation.org/wp-content/uploads/2025/04/Crawfish-hospice.png
END:VEVENT
END:VCALENDAR