BEGIN:VCALENDAR
VERSION:2.0
PRODID:-//Northshore Community Foundation - ECPv6.15.20//NONSGML v1.0//EN
CALSCALE:GREGORIAN
METHOD:PUBLISH
X-ORIGINAL-URL:https://northshorefoundation.org
X-WR-CALDESC:Events for Northshore Community Foundation
REFRESH-INTERVAL;VALUE=DURATION:PT1H
X-Robots-Tag:noindex
X-PUBLISHED-TTL:PT1H
BEGIN:VTIMEZONE
TZID:America/Chicago
BEGIN:DAYLIGHT
TZOFFSETFROM:-0600
TZOFFSETTO:-0500
TZNAME:CDT
DTSTART:20240310T080000
END:DAYLIGHT
BEGIN:STANDARD
TZOFFSETFROM:-0500
TZOFFSETTO:-0600
TZNAME:CST
DTSTART:20241103T070000
END:STANDARD
BEGIN:DAYLIGHT
TZOFFSETFROM:-0600
TZOFFSETTO:-0500
TZNAME:CDT
DTSTART:20250309T080000
END:DAYLIGHT
BEGIN:STANDARD
TZOFFSETFROM:-0500
TZOFFSETTO:-0600
TZNAME:CST
DTSTART:20251102T070000
END:STANDARD
BEGIN:DAYLIGHT
TZOFFSETFROM:-0600
TZOFFSETTO:-0500
TZNAME:CDT
DTSTART:20260308T080000
END:DAYLIGHT
BEGIN:STANDARD
TZOFFSETFROM:-0500
TZOFFSETTO:-0600
TZNAME:CST
DTSTART:20261101T070000
END:STANDARD
END:VTIMEZONE
BEGIN:VEVENT
DTSTART;VALUE=DATE:20250601
DTEND;VALUE=DATE:20250701
DTSTAMP:20260425T104138
CREATED:20250521T160154Z
LAST-MODIFIED:20250521T160154Z
UID:2134-1748736000-1751327999@northshorefoundation.org
SUMMARY:National Safety Month at CMST
DESCRIPTION:
URL:https://northshorefoundation.org/event/national-safety-month-at-cmst/
LOCATION:Children’s Museum of St. Tammany
ATTACH;FMTTYPE=image/jpeg:https://northshorefoundation.org/wp-content/uploads/2025/05/safety-month.jpg
END:VEVENT
BEGIN:VEVENT
DTSTART;VALUE=DATE:20250614
DTEND;VALUE=DATE:20250630
DTSTAMP:20260425T104138
CREATED:20250521T165516Z
LAST-MODIFIED:20250624T150511Z
UID:2187-1749859200-1751241599@northshorefoundation.org
SUMMARY:Lucky Stiff
DESCRIPTION:
URL:https://northshorefoundation.org/event/lucky-stiff/
LOCATION:30 by Ninety Theatre\, 880 Lafayette St.\, Mandeville\, Louisiana\, 70448
ATTACH;FMTTYPE=image/png:https://northshorefoundation.org/wp-content/uploads/2025/05/LUCKY-STIFF.png
ORGANIZER;CN="30 by Ninety Theatre":MAILTO:info@30byninety.com
END:VEVENT
END:VCALENDAR