BEGIN:VCALENDAR
VERSION:2.0
PRODID:-//Northshore Community Foundation - ECPv6.15.20//NONSGML v1.0//EN
CALSCALE:GREGORIAN
METHOD:PUBLISH
X-ORIGINAL-URL:https://northshorefoundation.org
X-WR-CALDESC:Events for Northshore Community Foundation
REFRESH-INTERVAL;VALUE=DURATION:PT1H
X-Robots-Tag:noindex
X-PUBLISHED-TTL:PT1H
BEGIN:VTIMEZONE
TZID:America/Chicago
BEGIN:DAYLIGHT
TZOFFSETFROM:-0600
TZOFFSETTO:-0500
TZNAME:CDT
DTSTART:20240310T080000
END:DAYLIGHT
BEGIN:STANDARD
TZOFFSETFROM:-0500
TZOFFSETTO:-0600
TZNAME:CST
DTSTART:20241103T070000
END:STANDARD
BEGIN:DAYLIGHT
TZOFFSETFROM:-0600
TZOFFSETTO:-0500
TZNAME:CDT
DTSTART:20250309T080000
END:DAYLIGHT
BEGIN:STANDARD
TZOFFSETFROM:-0500
TZOFFSETTO:-0600
TZNAME:CST
DTSTART:20251102T070000
END:STANDARD
BEGIN:DAYLIGHT
TZOFFSETFROM:-0600
TZOFFSETTO:-0500
TZNAME:CDT
DTSTART:20260308T080000
END:DAYLIGHT
BEGIN:STANDARD
TZOFFSETFROM:-0500
TZOFFSETTO:-0600
TZNAME:CST
DTSTART:20261101T070000
END:STANDARD
END:VTIMEZONE
BEGIN:VEVENT
DTSTART;VALUE=DATE:20250801
DTEND;VALUE=DATE:20250823
DTSTAMP:20260423T063436
CREATED:20250722T155331Z
LAST-MODIFIED:20250722T155331Z
UID:2314-1754006400-1755907199@northshorefoundation.org
SUMMARY:Become a Girls on the Run Coach
DESCRIPTION:
URL:https://northshorefoundation.org/event/become-a-girls-on-the-run-coach/
LOCATION:Online
ATTACH;FMTTYPE=image/jpeg:https://northshorefoundation.org/wp-content/uploads/2025/07/5.jpg
END:VEVENT
BEGIN:VEVENT
DTSTART;VALUE=DATE:20250809
DTEND;VALUE=DATE:20250825
DTSTAMP:20260423T063436
CREATED:20250722T154043Z
LAST-MODIFIED:20250722T154043Z
UID:2296-1754697600-1756079999@northshorefoundation.org
SUMMARY:School of Rock: The Musical
DESCRIPTION:
URL:https://northshorefoundation.org/event/school-of-rock-the-musical/
LOCATION:30 by Ninety Theatre\, 880 Lafayette St.\, Mandeville\, Louisiana\, 70448
ATTACH;FMTTYPE=image/jpeg:https://northshorefoundation.org/wp-content/uploads/2025/07/3.jpg
ORGANIZER;CN="30 by Ninety Theatre":MAILTO:info@30byninety.com
END:VEVENT
END:VCALENDAR