BEGIN:VCALENDAR
VERSION:2.0
PRODID:-//Northshore Community Foundation - ECPv6.15.20//NONSGML v1.0//EN
CALSCALE:GREGORIAN
METHOD:PUBLISH
X-ORIGINAL-URL:https://northshorefoundation.org
X-WR-CALDESC:Events for Northshore Community Foundation
REFRESH-INTERVAL;VALUE=DURATION:PT1H
X-Robots-Tag:noindex
X-PUBLISHED-TTL:PT1H
BEGIN:VTIMEZONE
TZID:America/Chicago
BEGIN:DAYLIGHT
TZOFFSETFROM:-0600
TZOFFSETTO:-0500
TZNAME:CDT
DTSTART:20240310T080000
END:DAYLIGHT
BEGIN:STANDARD
TZOFFSETFROM:-0500
TZOFFSETTO:-0600
TZNAME:CST
DTSTART:20241103T070000
END:STANDARD
BEGIN:DAYLIGHT
TZOFFSETFROM:-0600
TZOFFSETTO:-0500
TZNAME:CDT
DTSTART:20250309T080000
END:DAYLIGHT
BEGIN:STANDARD
TZOFFSETFROM:-0500
TZOFFSETTO:-0600
TZNAME:CST
DTSTART:20251102T070000
END:STANDARD
BEGIN:DAYLIGHT
TZOFFSETFROM:-0600
TZOFFSETTO:-0500
TZNAME:CDT
DTSTART:20260308T080000
END:DAYLIGHT
BEGIN:STANDARD
TZOFFSETFROM:-0500
TZOFFSETTO:-0600
TZNAME:CST
DTSTART:20261101T070000
END:STANDARD
END:VTIMEZONE
BEGIN:VEVENT
DTSTART;VALUE=DATE:20250926
DTEND;VALUE=DATE:20251122
DTSTAMP:20260422T175751
CREATED:20250825T171745Z
LAST-MODIFIED:20250825T171745Z
UID:2398-1758844800-1763769599@northshorefoundation.org
SUMMARY:Women Build
DESCRIPTION:
URL:https://northshorefoundation.org/event/women-build/
ATTACH;FMTTYPE=image/jpeg:https://northshorefoundation.org/wp-content/uploads/2025/08/4.jpg
END:VEVENT
BEGIN:VEVENT
DTSTART;VALUE=DATE:20251001
DTEND;VALUE=DATE:20251101
DTSTAMP:20260422T175751
CREATED:20250922T154811Z
LAST-MODIFIED:20250922T154811Z
UID:2431-1759276800-1761955199@northshorefoundation.org
SUMMARY:Geaux Pink
DESCRIPTION:
URL:https://northshorefoundation.org/event/geaux-pink/
ATTACH;FMTTYPE=image/jpeg:https://northshorefoundation.org/wp-content/uploads/2025/09/7.jpg
END:VEVENT
BEGIN:VEVENT
DTSTART;TZID=America/Chicago:20251001T173000
DTEND;TZID=America/Chicago:20251001T203000
DTSTAMP:20260422T175751
CREATED:20250922T155000Z
LAST-MODIFIED:20250922T155000Z
UID:2434-1759339800-1759350600@northshorefoundation.org
SUMMARY:Rock'n' Par•tee Fore the Families
DESCRIPTION:
URL:https://northshorefoundation.org/event/rockn-partee-fore-the-families/
LOCATION:Rock ‘N’ Bowl\, 3016 S Carrollton Ave\, New Orleans\, 70118\, United States
ATTACH;FMTTYPE=image/jpeg:https://northshorefoundation.org/wp-content/uploads/2025/09/1.jpg
END:VEVENT
END:VCALENDAR