BEGIN:VCALENDAR
VERSION:2.0
PRODID:-//Northshore Community Foundation - ECPv6.15.20//NONSGML v1.0//EN
CALSCALE:GREGORIAN
METHOD:PUBLISH
X-WR-CALNAME:Northshore Community Foundation
X-ORIGINAL-URL:https://northshorefoundation.org
X-WR-CALDESC:Events for Northshore Community Foundation
REFRESH-INTERVAL;VALUE=DURATION:PT1H
X-Robots-Tag:noindex
X-PUBLISHED-TTL:PT1H
BEGIN:VTIMEZONE
TZID:America/Chicago
BEGIN:DAYLIGHT
TZOFFSETFROM:-0600
TZOFFSETTO:-0500
TZNAME:CDT
DTSTART:20240310T080000
END:DAYLIGHT
BEGIN:STANDARD
TZOFFSETFROM:-0500
TZOFFSETTO:-0600
TZNAME:CST
DTSTART:20241103T070000
END:STANDARD
BEGIN:DAYLIGHT
TZOFFSETFROM:-0600
TZOFFSETTO:-0500
TZNAME:CDT
DTSTART:20250309T080000
END:DAYLIGHT
BEGIN:STANDARD
TZOFFSETFROM:-0500
TZOFFSETTO:-0600
TZNAME:CST
DTSTART:20251102T070000
END:STANDARD
BEGIN:DAYLIGHT
TZOFFSETFROM:-0600
TZOFFSETTO:-0500
TZNAME:CDT
DTSTART:20260308T080000
END:DAYLIGHT
BEGIN:STANDARD
TZOFFSETFROM:-0500
TZOFFSETTO:-0600
TZNAME:CST
DTSTART:20261101T070000
END:STANDARD
END:VTIMEZONE
BEGIN:VEVENT
DTSTART;VALUE=DATE:20250926
DTEND;VALUE=DATE:20251122
DTSTAMP:20260422T211353
CREATED:20250825T171745Z
LAST-MODIFIED:20250825T171745Z
UID:2398-1758844800-1763769599@northshorefoundation.org
SUMMARY:Women Build
DESCRIPTION:
URL:https://northshorefoundation.org/event/women-build/
ATTACH;FMTTYPE=image/jpeg:https://northshorefoundation.org/wp-content/uploads/2025/08/4.jpg
END:VEVENT
BEGIN:VEVENT
DTSTART;VALUE=DATE:20251001
DTEND;VALUE=DATE:20251101
DTSTAMP:20260422T211353
CREATED:20250922T154811Z
LAST-MODIFIED:20250922T154811Z
UID:2431-1759276800-1761955199@northshorefoundation.org
SUMMARY:Geaux Pink
DESCRIPTION:
URL:https://northshorefoundation.org/event/geaux-pink/
ATTACH;FMTTYPE=image/jpeg:https://northshorefoundation.org/wp-content/uploads/2025/09/7.jpg
END:VEVENT
BEGIN:VEVENT
DTSTART;TZID=America/Chicago:20251004T110000
DTEND;TZID=America/Chicago:20251004T160000
DTSTAMP:20260422T211353
CREATED:20250922T160230Z
LAST-MODIFIED:20250922T160230Z
UID:2447-1759575600-1759593600@northshorefoundation.org
SUMMARY:Olde Towne Pumpkin Festival
DESCRIPTION:
URL:https://northshorefoundation.org/event/olde-towne-pumpkin-festival-2/
LOCATION:First United Methodist Church
ATTACH;FMTTYPE=image/jpeg:https://northshorefoundation.org/wp-content/uploads/2025/09/3.jpg
END:VEVENT
BEGIN:VEVENT
DTSTART;TZID=America/Chicago:20251004T110000
DTEND;TZID=America/Chicago:20251004T160000
DTSTAMP:20260422T211353
CREATED:20250922T162054Z
LAST-MODIFIED:20250922T162054Z
UID:2453-1759575600-1759593600@northshorefoundation.org
SUMMARY:Chief Fandal's Wild Game\, Seafood\, & BBQ Cook-Off
DESCRIPTION:
URL:https://northshorefoundation.org/event/chief-fandals-wild-game-seafood-bbq-cook-off/
LOCATION:Olde Towne
ATTACH;FMTTYPE=image/jpeg:https://northshorefoundation.org/wp-content/uploads/2025/09/10.jpg
END:VEVENT
BEGIN:VEVENT
DTSTART;TZID=America/Chicago:20251004T190000
DTEND;TZID=America/Chicago:20251004T220000
DTSTAMP:20260422T211353
CREATED:20250922T161549Z
LAST-MODIFIED:20250922T161549Z
UID:2450-1759604400-1759615200@northshorefoundation.org
SUMMARY:Unleashed! Rescue Me Gala
DESCRIPTION:
URL:https://northshorefoundation.org/event/unleashed-rescue-me-gala-2/
LOCATION:Covington Country Club
ATTACH;FMTTYPE=image/jpeg:https://northshorefoundation.org/wp-content/uploads/2025/09/18.jpg
END:VEVENT
END:VCALENDAR