BEGIN:VCALENDAR
VERSION:2.0
PRODID:-//Northshore Community Foundation - ECPv6.15.20//NONSGML v1.0//EN
CALSCALE:GREGORIAN
METHOD:PUBLISH
X-WR-CALNAME:Northshore Community Foundation
X-ORIGINAL-URL:https://northshorefoundation.org
X-WR-CALDESC:Events for Northshore Community Foundation
REFRESH-INTERVAL;VALUE=DURATION:PT1H
X-Robots-Tag:noindex
X-PUBLISHED-TTL:PT1H
BEGIN:VTIMEZONE
TZID:America/Chicago
BEGIN:DAYLIGHT
TZOFFSETFROM:-0600
TZOFFSETTO:-0500
TZNAME:CDT
DTSTART:20230312T080000
END:DAYLIGHT
BEGIN:STANDARD
TZOFFSETFROM:-0500
TZOFFSETTO:-0600
TZNAME:CST
DTSTART:20231105T070000
END:STANDARD
BEGIN:DAYLIGHT
TZOFFSETFROM:-0600
TZOFFSETTO:-0500
TZNAME:CDT
DTSTART:20240310T080000
END:DAYLIGHT
BEGIN:STANDARD
TZOFFSETFROM:-0500
TZOFFSETTO:-0600
TZNAME:CST
DTSTART:20241103T070000
END:STANDARD
BEGIN:DAYLIGHT
TZOFFSETFROM:-0600
TZOFFSETTO:-0500
TZNAME:CDT
DTSTART:20250309T080000
END:DAYLIGHT
BEGIN:STANDARD
TZOFFSETFROM:-0500
TZOFFSETTO:-0600
TZNAME:CST
DTSTART:20251102T070000
END:STANDARD
END:VTIMEZONE
BEGIN:VEVENT
DTSTART;TZID=America/Chicago:20241102T180000
DTEND;TZID=America/Chicago:20241102T220000
DTSTAMP:20260419T223818
CREATED:20241022T160316Z
LAST-MODIFIED:20241022T160316Z
UID:1536-1730570400-1730584800@northshorefoundation.org
SUMMARY:Healing with Horses Gala
DESCRIPTION:
URL:https://northshorefoundation.org/event/healing-with-horses-gala/
LOCATION:Tchefuncta Country Club
ATTACH;FMTTYPE=image/png:https://northshorefoundation.org/wp-content/uploads/2024/10/Healing-horses-gala.png
END:VEVENT
BEGIN:VEVENT
DTSTART;TZID=America/Chicago:20241102T080000
DTEND;TZID=America/Chicago:20241102T120000
DTSTAMP:20260419T223818
CREATED:20241022T162604Z
LAST-MODIFIED:20241022T162604Z
UID:1540-1730534400-1730548800@northshorefoundation.org
SUMMARY:Gator Tail 5K Trail Run
DESCRIPTION:
URL:https://northshorefoundation.org/event/gator-tail-5k-trail-run/
LOCATION:Northshore Technical Community College
ATTACH;FMTTYPE=image/png:https://northshorefoundation.org/wp-content/uploads/2024/10/gator-tail-run.png
END:VEVENT
BEGIN:VEVENT
DTSTART;TZID=America/Chicago:20241027T130000
DTEND;TZID=America/Chicago:20241027T150000
DTSTAMP:20260419T223818
CREATED:20240924T152803Z
LAST-MODIFIED:20240924T152803Z
UID:1421-1730034000-1730041200@northshorefoundation.org
SUMMARY:Boo Bash
DESCRIPTION:
URL:https://northshorefoundation.org/event/boo-bash/
LOCATION:Children’s Museum of St. Tammany
ATTACH;FMTTYPE=image/png:https://northshorefoundation.org/wp-content/uploads/2024/09/boo-bash-ofe.png
END:VEVENT
BEGIN:VEVENT
DTSTART;TZID=America/Chicago:20241026T100000
DTEND;TZID=America/Chicago:20241026T150000
DTSTAMP:20260419T223818
CREATED:20240919T134831Z
LAST-MODIFIED:20240919T134831Z
UID:1284-1729936800-1729954800@northshorefoundation.org
SUMMARY:Boo Fest 2024
DESCRIPTION:
URL:https://northshorefoundation.org/event/boo-fest-2024/
LOCATION:Lakeview Hospital
ATTACH;FMTTYPE=image/png:https://northshorefoundation.org/wp-content/uploads/2024/09/boo-fest.png
END:VEVENT
BEGIN:VEVENT
DTSTART;TZID=America/Chicago:20241024T173000
DTEND;TZID=America/Chicago:20241024T203000
DTSTAMP:20260419T223818
CREATED:20240924T145618Z
LAST-MODIFIED:20240924T145618Z
UID:1416-1729791000-1729801800@northshorefoundation.org
SUMMARY:18th Annual President's Arts Awards
DESCRIPTION:
URL:https://northshorefoundation.org/event/18th-annual-presidents-arts-awards/
LOCATION:Slidell Auditorium
ATTACH;FMTTYPE=image/png:https://northshorefoundation.org/wp-content/uploads/2024/09/arts-awards-ofe.png
END:VEVENT
BEGIN:VEVENT
DTSTART;TZID=America/Chicago:20241020T120000
DTEND;TZID=America/Chicago:20241020T180000
DTSTAMP:20260419T223818
CREATED:20240924T145422Z
LAST-MODIFIED:20240924T145422Z
UID:1411-1729425600-1729447200@northshorefoundation.org
SUMMARY:2024 Autumn Polo Classic
DESCRIPTION:
URL:https://northshorefoundation.org/event/2024-autumn-polo-classic/
LOCATION:Summergrove Farms
ATTACH;FMTTYPE=image/png:https://northshorefoundation.org/wp-content/uploads/2024/09/polo-for-nami-ofe.png
END:VEVENT
BEGIN:VEVENT
DTSTART;TZID=America/Chicago:20241019T100000
DTEND;TZID=America/Chicago:20241020T180000
DTSTAMP:20260419T223818
CREATED:20240924T143319Z
LAST-MODIFIED:20240924T143319Z
UID:1397-1729332000-1729447200@northshorefoundation.org
SUMMARY:Wooden Boat Festival
DESCRIPTION:
URL:https://northshorefoundation.org/event/wooden-boat-festival/
LOCATION:Tchefunte River\, Madisonville
ATTACH;FMTTYPE=image/png:https://northshorefoundation.org/wp-content/uploads/2024/09/boat-festival-ofe.png
END:VEVENT
BEGIN:VEVENT
DTSTART;TZID=America/Chicago:20241019T100000
DTEND;TZID=America/Chicago:20241019T140000
DTSTAMP:20260419T223818
CREATED:20240924T143919Z
LAST-MODIFIED:20240924T143919Z
UID:1407-1729332000-1729346400@northshorefoundation.org
SUMMARY:Monster Mash
DESCRIPTION:
URL:https://northshorefoundation.org/event/monster-mash/
LOCATION:Bogue Falaya Park
ATTACH;FMTTYPE=image/png:https://northshorefoundation.org/wp-content/uploads/2024/09/monster-mash-ofe.png
END:VEVENT
BEGIN:VEVENT
DTSTART;TZID=America/Chicago:20241019T090000
DTEND;TZID=America/Chicago:20241019T123000
DTSTAMP:20260419T223818
CREATED:20240924T143516Z
LAST-MODIFIED:20240924T143516Z
UID:1402-1729328400-1729341000@northshorefoundation.org
SUMMARY:Bark in the Park
DESCRIPTION:
URL:https://northshorefoundation.org/event/bark-in-the-park/
LOCATION:Memorial Park
ATTACH;FMTTYPE=image/png:https://northshorefoundation.org/wp-content/uploads/2024/09/cas-bark-in-park-ofe.png
END:VEVENT
BEGIN:VEVENT
DTSTART;TZID=America/Chicago:20241019T080000
DTEND;TZID=America/Chicago:20241019T170000
DTSTAMP:20260419T223818
CREATED:20240924T143112Z
LAST-MODIFIED:20240924T143112Z
UID:1392-1729324800-1729357200@northshorefoundation.org
SUMMARY:2024 Tocqueville Gala
DESCRIPTION:
URL:https://northshorefoundation.org/event/2024-tocqueville-gala/
LOCATION:The Ritz-Carlton\, New Orleans
ATTACH;FMTTYPE=image/png:https://northshorefoundation.org/wp-content/uploads/2024/09/united-way-gala-ofe.png
END:VEVENT
BEGIN:VEVENT
DTSTART;TZID=America/Chicago:20241017T120000
DTEND;TZID=America/Chicago:20241017T140000
DTSTAMP:20260419T223818
CREATED:20240924T142242Z
LAST-MODIFIED:20240924T142242Z
UID:1387-1729166400-1729173600@northshorefoundation.org
SUMMARY:Good Apple Luncheon
DESCRIPTION:
URL:https://northshorefoundation.org/event/good-apple-luncheon/
LOCATION:Arnaud’s
ATTACH;FMTTYPE=image/png:https://northshorefoundation.org/wp-content/uploads/2024/09/LA-appleseed.png
END:VEVENT
BEGIN:VEVENT
DTSTART;TZID=America/Chicago:20241013T110000
DTEND;TZID=America/Chicago:20241013T150000
DTSTAMP:20260419T223818
CREATED:20240924T141950Z
LAST-MODIFIED:20240924T141950Z
UID:1383-1728817200-1728831600@northshorefoundation.org
SUMMARY:Northshore Beer Festival
DESCRIPTION:
URL:https://northshorefoundation.org/event/northshore-beer-festival/
LOCATION:Mandeville Trailhead
ATTACH;FMTTYPE=image/png:https://northshorefoundation.org/wp-content/uploads/2024/09/beer-fest-ofe.png
END:VEVENT
BEGIN:VEVENT
DTSTART;TZID=America/Chicago:20241012T183000
DTEND;TZID=America/Chicago:20241027T210000
DTSTAMP:20260419T223818
CREATED:20240924T141651Z
LAST-MODIFIED:20240924T141651Z
UID:1380-1728757800-1730062800@northshorefoundation.org
SUMMARY:Murder on the Orient Express
DESCRIPTION:
URL:https://northshorefoundation.org/event/murder-on-the-orient-express/
LOCATION:30 by Ninety Theatre\, 880 Lafayette St.\, Mandeville\, Louisiana\, 70448
ATTACH;FMTTYPE=image/png:https://northshorefoundation.org/wp-content/uploads/2024/09/orient-express-ofe.png
ORGANIZER;CN="30 by Ninety Theatre":MAILTO:info@30byninety.com
END:VEVENT
BEGIN:VEVENT
DTSTART;TZID=America/Chicago:20241011T100000
DTEND;TZID=America/Chicago:20241011T140000
DTSTAMP:20260419T223818
CREATED:20240924T135030Z
LAST-MODIFIED:20240924T135030Z
UID:1332-1728640800-1728655200@northshorefoundation.org
SUMMARY:4th Annual Holes for Hospice
DESCRIPTION:
URL:https://northshorefoundation.org/event/4th-annual-holes-for-hospice/
LOCATION:Oak Harber Golf Course
ATTACH;FMTTYPE=image/png:https://northshorefoundation.org/wp-content/uploads/2024/09/holes-for-hospice-ofe.png
END:VEVENT
BEGIN:VEVENT
DTSTART;TZID=America/Chicago:20241009T190000
DTEND;TZID=America/Chicago:20241009T220000
DTSTAMP:20260419T223818
CREATED:20240924T141412Z
LAST-MODIFIED:20240924T141412Z
UID:1375-1728500400-1728511200@northshorefoundation.org
SUMMARY:Recruitment Event Bingo Night
DESCRIPTION:
URL:https://northshorefoundation.org/event/recruitment-event-bingo-night/
LOCATION:Covington Beer Garden
ATTACH;FMTTYPE=image/png:https://northshorefoundation.org/wp-content/uploads/2024/09/ducks-bingo-night-ofe.png
END:VEVENT
BEGIN:VEVENT
DTSTART;TZID=America/Chicago:20241007T113000
DTEND;TZID=America/Chicago:20241007T173000
DTSTAMP:20260419T223818
CREATED:20240924T141226Z
LAST-MODIFIED:20240924T141226Z
UID:1371-1728300600-1728322200@northshorefoundation.org
SUMMARY:44th Annual Golf Classic
DESCRIPTION:
URL:https://northshorefoundation.org/event/44th-annual-golf-classic/
LOCATION:Beau Chene Country Club
ATTACH;FMTTYPE=image/png:https://northshorefoundation.org/wp-content/uploads/2024/09/methodist-childrens-ofe.png
END:VEVENT
BEGIN:VEVENT
DTSTART;TZID=America/Chicago:20241005T190000
DTEND;TZID=America/Chicago:20241005T220000
DTSTAMP:20260419T223818
CREATED:20240924T140841Z
LAST-MODIFIED:20240924T140841Z
UID:1361-1728154800-1728165600@northshorefoundation.org
SUMMARY:Unleashed Rescue Me Gala
DESCRIPTION:
URL:https://northshorefoundation.org/event/unleashed-rescue-me-gala/
LOCATION:Covington Country Club
ATTACH;FMTTYPE=image/png:https://northshorefoundation.org/wp-content/uploads/2024/09/unleashed-gala.png
END:VEVENT
BEGIN:VEVENT
DTSTART;TZID=America/Chicago:20241005T110000
DTEND;TZID=America/Chicago:20241005T160000
DTSTAMP:20260419T223818
CREATED:20240924T141032Z
LAST-MODIFIED:20240924T141032Z
UID:1366-1728126000-1728144000@northshorefoundation.org
SUMMARY:Olde Towne Pumpkin Festival
DESCRIPTION:
URL:https://northshorefoundation.org/event/olde-towne-pumpkin-festival/
LOCATION:First United Methodist Church
ATTACH;FMTTYPE=image/png:https://northshorefoundation.org/wp-content/uploads/2024/09/rainbow-pumpkin-fest-ofe.png
END:VEVENT
BEGIN:VEVENT
DTSTART;TZID=America/Chicago:20241005T073000
DTEND;TZID=America/Chicago:20241005T100000
DTSTAMP:20260419T223818
CREATED:20240924T140352Z
LAST-MODIFIED:20240924T140352Z
UID:1356-1728113400-1728122400@northshorefoundation.org
SUMMARY:Pelican Energy Run for Hope
DESCRIPTION:
URL:https://northshorefoundation.org/event/pelican-energy-run-for-hope/
LOCATION:Fountainbleau State Park
ATTACH;FMTTYPE=image/png:https://northshorefoundation.org/wp-content/uploads/2024/09/pelican-run-hope-house-ofe.png
END:VEVENT
BEGIN:VEVENT
DTSTART;TZID=America/Chicago:20241004T183000
DTEND;TZID=America/Chicago:20241013T210000
DTSTAMP:20260419T223818
CREATED:20240924T135843Z
LAST-MODIFIED:20240924T135843Z
UID:1352-1728066600-1728853200@northshorefoundation.org
SUMMARY:She Kills Monsters
DESCRIPTION:
URL:https://northshorefoundation.org/event/she-kills-monsters/
ATTACH;FMTTYPE=image/png:https://northshorefoundation.org/wp-content/uploads/2024/09/she-kills-monsters-ofe.png
END:VEVENT
BEGIN:VEVENT
DTSTART;TZID=America/Chicago:20241003T190000
DTEND;TZID=America/Chicago:20241003T220000
DTSTAMP:20260419T223818
CREATED:20240924T135500Z
LAST-MODIFIED:20240924T135500Z
UID:1342-1727982000-1727992800@northshorefoundation.org
SUMMARY:THE Gala
DESCRIPTION:
URL:https://northshorefoundation.org/event/the-gala/
LOCATION:Tchefuncta Country Club
ATTACH;FMTTYPE=image/png:https://northshorefoundation.org/wp-content/uploads/2024/09/the-gala-ofe.png
END:VEVENT
BEGIN:VEVENT
DTSTART;TZID=America/Chicago:20241003T173000
DTEND;TZID=America/Chicago:20241003T203000
DTSTAMP:20260419T223818
CREATED:20240924T135639Z
LAST-MODIFIED:20240924T135639Z
UID:1347-1727976600-1727987400@northshorefoundation.org
SUMMARY:Target Health Foundation Gala
DESCRIPTION:
URL:https://northshorefoundation.org/event/target-health-foundation-gala/
LOCATION:Maison Laffite
ATTACH;FMTTYPE=image/png:https://northshorefoundation.org/wp-content/uploads/2024/09/target-health-gala.png
END:VEVENT
BEGIN:VEVENT
DTSTART;TZID=America/Chicago:20241001T110000
DTEND;TZID=America/Chicago:20241001T160000
DTSTAMP:20260419T223818
CREATED:20240924T135318Z
LAST-MODIFIED:20240924T135318Z
UID:1337-1727780400-1727798400@northshorefoundation.org
SUMMARY:Making a Miracle Golf Scramble
DESCRIPTION:
URL:https://northshorefoundation.org/event/making-a-miracle-golf-scramble/
LOCATION:Money Hill Golf and Country Club
ATTACH;FMTTYPE=image/png:https://northshorefoundation.org/wp-content/uploads/2024/09/miracle-match-ofe.png
END:VEVENT
BEGIN:VEVENT
DTSTART;TZID=America/Chicago:20240810T200000
DTEND;TZID=America/Chicago:20240825T143000
DTSTAMP:20260419T223818
CREATED:20240801T194150Z
LAST-MODIFIED:20240807T201443Z
UID:361-1723320000-1724596200@northshorefoundation.org
SUMMARY:The 25th Annual Putnam Country Spelling Bee
DESCRIPTION:
URL:https://northshorefoundation.org/event/gardian-bowl/
ATTACH;FMTTYPE=image/png:https://northshorefoundation.org/wp-content/uploads/2024/08/spellingbee30by90forcalendar.png
ORGANIZER;CN="30 by Ninety Theatre":MAILTO:info@30byninety.com
END:VEVENT
END:VCALENDAR