BEGIN:VCALENDAR
VERSION:2.0
PRODID:-//Northshore Community Foundation - ECPv6.15.20//NONSGML v1.0//EN
CALSCALE:GREGORIAN
METHOD:PUBLISH
X-WR-CALNAME:Northshore Community Foundation
X-ORIGINAL-URL:https://northshorefoundation.org
X-WR-CALDESC:Events for Northshore Community Foundation
REFRESH-INTERVAL;VALUE=DURATION:PT1H
X-Robots-Tag:noindex
X-PUBLISHED-TTL:PT1H
BEGIN:VTIMEZONE
TZID:America/Chicago
BEGIN:DAYLIGHT
TZOFFSETFROM:-0600
TZOFFSETTO:-0500
TZNAME:CDT
DTSTART:20240310T080000
END:DAYLIGHT
BEGIN:STANDARD
TZOFFSETFROM:-0500
TZOFFSETTO:-0600
TZNAME:CST
DTSTART:20241103T070000
END:STANDARD
BEGIN:DAYLIGHT
TZOFFSETFROM:-0600
TZOFFSETTO:-0500
TZNAME:CDT
DTSTART:20250309T080000
END:DAYLIGHT
BEGIN:STANDARD
TZOFFSETFROM:-0500
TZOFFSETTO:-0600
TZNAME:CST
DTSTART:20251102T070000
END:STANDARD
BEGIN:DAYLIGHT
TZOFFSETFROM:-0600
TZOFFSETTO:-0500
TZNAME:CDT
DTSTART:20260308T080000
END:DAYLIGHT
BEGIN:STANDARD
TZOFFSETFROM:-0500
TZOFFSETTO:-0600
TZNAME:CST
DTSTART:20261101T070000
END:STANDARD
END:VTIMEZONE
BEGIN:VEVENT
DTSTART;TZID=America/Chicago:20250303T090000
DTEND;TZID=America/Chicago:20250307T160000
DTSTAMP:20260425T224048
CREATED:20250228T144221Z
LAST-MODIFIED:20250228T144221Z
UID:1839-1740992400-1741363200@northshorefoundation.org
SUMMARY:Paws & Parade Camp
DESCRIPTION:
URL:https://northshorefoundation.org/event/paws-parade-camp/
LOCATION:Northshore Humane Society
ATTACH;FMTTYPE=image/jpeg:https://northshorefoundation.org/wp-content/uploads/2025/02/mardi-gras-camp.jpg
END:VEVENT
BEGIN:VEVENT
DTSTART;TZID=America/Chicago:20250303T110000
DTEND;TZID=America/Chicago:20250303T130000
DTSTAMP:20260425T224048
CREATED:20250228T143437Z
LAST-MODIFIED:20250228T143437Z
UID:1833-1740999600-1741006800@northshorefoundation.org
SUMMARY:CMST Kids Krewe Parade 2025
DESCRIPTION:
URL:https://northshorefoundation.org/event/cmst-kids-krewe-parade-2025/
LOCATION:Pelican Park
ATTACH;FMTTYPE=image/jpeg:https://northshorefoundation.org/wp-content/uploads/2025/02/cmst-parade.jpg
END:VEVENT
BEGIN:VEVENT
DTSTART;TZID=America/Chicago:20250313T090000
DTEND;TZID=America/Chicago:20250313T170000
DTSTAMP:20260425T224048
CREATED:20250228T144640Z
LAST-MODIFIED:20250228T144640Z
UID:1843-1741856400-1741885200@northshorefoundation.org
SUMMARY:Get Lucky Golf Tournament
DESCRIPTION:
URL:https://northshorefoundation.org/event/get-lucky-golf-tournament/
LOCATION:Beau Chene Country Club
ATTACH;FMTTYPE=image/jpeg:https://northshorefoundation.org/wp-content/uploads/2025/02/get-lucky-golf.jpg
END:VEVENT
BEGIN:VEVENT
DTSTART;TZID=America/Chicago:20250315T090000
DTEND;TZID=America/Chicago:20250315T130000
DTSTAMP:20260425T224048
CREATED:20250228T145019Z
LAST-MODIFIED:20250228T145019Z
UID:1846-1742029200-1742043600@northshorefoundation.org
SUMMARY:Caregiver Expo
DESCRIPTION:
URL:https://northshorefoundation.org/event/caregiver-expo/
LOCATION:COAST Lacombe Activity Center
ATTACH;FMTTYPE=image/jpeg:https://northshorefoundation.org/wp-content/uploads/2025/02/coast-event.jpg
END:VEVENT
BEGIN:VEVENT
DTSTART;TZID=America/Chicago:20250315T200000
DTEND;TZID=America/Chicago:20250330T163000
DTSTAMP:20260425T224048
CREATED:20250217T145133Z
LAST-MODIFIED:20250217T145133Z
UID:1821-1742068800-1743352200@northshorefoundation.org
SUMMARY:The Play that Goes Wrong
DESCRIPTION:
URL:https://northshorefoundation.org/event/the-play-that-goes-wrong/
LOCATION:30 by Ninety Theatre\, 880 Lafayette St.\, Mandeville\, Louisiana\, 70448
ATTACH;FMTTYPE=image/jpeg:https://northshorefoundation.org/wp-content/uploads/2025/02/play-goes-wrong-sm.jpg
ORGANIZER;CN="30 by Ninety Theatre":MAILTO:info@30byninety.com
END:VEVENT
BEGIN:VEVENT
DTSTART;TZID=America/Chicago:20250316T170000
DTEND;TZID=America/Chicago:20250316T210000
DTSTAMP:20260425T224048
CREATED:20250228T145732Z
LAST-MODIFIED:20250228T145732Z
UID:1851-1742144400-1742158800@northshorefoundation.org
SUMMARY:Chef Soiree 2025
DESCRIPTION:
URL:https://northshorefoundation.org/event/chef-soiree-2025/
LOCATION:Bogue Falaya Park
ATTACH;FMTTYPE=image/jpeg:https://northshorefoundation.org/wp-content/uploads/2025/02/chef-soiree.jpg
END:VEVENT
BEGIN:VEVENT
DTSTART;TZID=America/Chicago:20250319T120000
DTEND;TZID=America/Chicago:20250319T130000
DTSTAMP:20260425T224048
CREATED:20250228T150004Z
LAST-MODIFIED:20250228T150004Z
UID:1854-1742385600-1742389200@northshorefoundation.org
SUMMARY:Child Farm Injuries Webinar
DESCRIPTION:
URL:https://northshorefoundation.org/event/child-farm-injuries-webinar/
LOCATION:Online
ATTACH;FMTTYPE=image/jpeg:https://northshorefoundation.org/wp-content/uploads/2025/02/agrisafe.jpg
END:VEVENT
BEGIN:VEVENT
DTSTART;VALUE=DATE:20250321
DTEND;VALUE=DATE:20250324
DTSTAMP:20260425T224048
CREATED:20250228T150351Z
LAST-MODIFIED:20250228T150351Z
UID:1857-1742515200-1742774399@northshorefoundation.org
SUMMARY:Camp Bearable
DESCRIPTION:
URL:https://northshorefoundation.org/event/camp-bearable/
ATTACH;FMTTYPE=image/jpeg:https://northshorefoundation.org/wp-content/uploads/2025/02/camp-bearable.jpg
END:VEVENT
BEGIN:VEVENT
DTSTART;TZID=America/Chicago:20250322T100000
DTEND;TZID=America/Chicago:20250322T120000
DTSTAMP:20260425T224048
CREATED:20250228T151857Z
LAST-MODIFIED:20250228T151857Z
UID:1868-1742637600-1742644800@northshorefoundation.org
SUMMARY:We Will Leave a Legacy
DESCRIPTION:
URL:https://northshorefoundation.org/event/we-will-leave-a-legacy/
ATTACH;FMTTYPE=image/png:https://northshorefoundation.org/wp-content/uploads/2025/02/legacy.png
END:VEVENT
BEGIN:VEVENT
DTSTART;TZID=America/Chicago:20250324T093000
DTEND;TZID=America/Chicago:20250324T170000
DTSTAMP:20260425T224048
CREATED:20250228T143917Z
LAST-MODIFIED:20250228T143917Z
UID:1836-1742808600-1742835600@northshorefoundation.org
SUMMARY:CMST Golf Tournament
DESCRIPTION:
URL:https://northshorefoundation.org/event/cmst-golf-tournament/
LOCATION:Beau Chene Country Club
ATTACH;FMTTYPE=image/png:https://northshorefoundation.org/wp-content/uploads/2025/02/golf-tournament-cmst-e1740753529124.png
END:VEVENT
BEGIN:VEVENT
DTSTART;TZID=America/Chicago:20250329T120000
DTEND;TZID=America/Chicago:20250329T150000
DTSTAMP:20260425T224048
CREATED:20250228T151037Z
LAST-MODIFIED:20250228T151037Z
UID:1864-1743249600-1743260400@northshorefoundation.org
SUMMARY:Pizza with a Purpose
DESCRIPTION:
URL:https://northshorefoundation.org/event/pizza-with-a-purpose/
LOCATION:Meribo
ATTACH;FMTTYPE=image/png:https://northshorefoundation.org/wp-content/uploads/2025/02/pizza.png
END:VEVENT
BEGIN:VEVENT
DTSTART;TZID=America/Chicago:20250329T120000
DTEND;TZID=America/Chicago:20250329T220000
DTSTAMP:20260425T224048
CREATED:20250228T150631Z
LAST-MODIFIED:20250228T150631Z
UID:1860-1743249600-1743285600@northshorefoundation.org
SUMMARY:Maritime Music & Art Festival
DESCRIPTION:
URL:https://northshorefoundation.org/event/maritime-music-art-festival/
LOCATION:Pine Street Park
ATTACH;FMTTYPE=image/jpeg:https://northshorefoundation.org/wp-content/uploads/2025/02/maritime-fesival.jpg
END:VEVENT
END:VCALENDAR