BEGIN:VCALENDAR
VERSION:2.0
PRODID:-//Northshore Community Foundation - ECPv6.15.20//NONSGML v1.0//EN
CALSCALE:GREGORIAN
METHOD:PUBLISH
X-ORIGINAL-URL:https://northshorefoundation.org
X-WR-CALDESC:Events for Northshore Community Foundation
REFRESH-INTERVAL;VALUE=DURATION:PT1H
X-Robots-Tag:noindex
X-PUBLISHED-TTL:PT1H
BEGIN:VTIMEZONE
TZID:America/Chicago
BEGIN:DAYLIGHT
TZOFFSETFROM:-0600
TZOFFSETTO:-0500
TZNAME:CDT
DTSTART:20240310T080000
END:DAYLIGHT
BEGIN:STANDARD
TZOFFSETFROM:-0500
TZOFFSETTO:-0600
TZNAME:CST
DTSTART:20241103T070000
END:STANDARD
BEGIN:DAYLIGHT
TZOFFSETFROM:-0600
TZOFFSETTO:-0500
TZNAME:CDT
DTSTART:20250309T080000
END:DAYLIGHT
BEGIN:STANDARD
TZOFFSETFROM:-0500
TZOFFSETTO:-0600
TZNAME:CST
DTSTART:20251102T070000
END:STANDARD
BEGIN:DAYLIGHT
TZOFFSETFROM:-0600
TZOFFSETTO:-0500
TZNAME:CDT
DTSTART:20260308T080000
END:DAYLIGHT
BEGIN:STANDARD
TZOFFSETFROM:-0500
TZOFFSETTO:-0600
TZNAME:CST
DTSTART:20261101T070000
END:STANDARD
END:VTIMEZONE
BEGIN:VEVENT
DTSTART;TZID=America/Chicago:20250503T180000
DTEND;TZID=America/Chicago:20250503T210000
DTSTAMP:20260425T104814
CREATED:20250415T171056Z
LAST-MODIFIED:20250415T171056Z
UID:2029-1746295200-1746306000@northshorefoundation.org
SUMMARY:Washington Parish Banquesr
DESCRIPTION:
URL:https://northshorefoundation.org/event/washington-parish-banquesr/
LOCATION:The American Legion Hall\, Bogalusa\, Louisiana
ATTACH;FMTTYPE=image/jpeg:https://northshorefoundation.org/wp-content/uploads/2025/04/ducks-unlimited.jpg
END:VEVENT
BEGIN:VEVENT
DTSTART;TZID=America/Chicago:20250503T190000
DTEND;TZID=America/Chicago:20250503T213000
DTSTAMP:20260425T104814
CREATED:20250415T162700Z
LAST-MODIFIED:20250415T162700Z
UID:2027-1746298800-1746307800@northshorefoundation.org
SUMMARY:Cardinals Football Game
DESCRIPTION:
URL:https://northshorefoundation.org/event/cardinals-football-game-2/
LOCATION:Lakeshore High School
ATTACH;FMTTYPE=image/jpeg:https://northshorefoundation.org/wp-content/uploads/2025/04/cardinals.jpg
END:VEVENT
BEGIN:VEVENT
DTSTART;TZID=America/Chicago:20250506T120000
DTEND;TZID=America/Chicago:20250506T133000
DTSTAMP:20260425T104814
CREATED:20250415T171235Z
LAST-MODIFIED:20250415T171235Z
UID:2033-1746532800-1746538200@northshorefoundation.org
SUMMARY:GiveNOLA Day BBQ Picnic
DESCRIPTION:
URL:https://northshorefoundation.org/event/givenola-day-bbq-picnic/
LOCATION:Children’s Advocacy Center – Hope House
ATTACH;FMTTYPE=image/jpeg:https://northshorefoundation.org/wp-content/uploads/2025/04/givenola-hope-house.jpg
END:VEVENT
BEGIN:VEVENT
DTSTART;TZID=America/Chicago:20250508T073000
DTEND;TZID=America/Chicago:20250508T210000
DTSTAMP:20260425T104814
CREATED:20250415T200744Z
LAST-MODIFIED:20250415T200744Z
UID:2050-1746689400-1746738000@northshorefoundation.org
SUMMARY:10th Anniversary Breakfast
DESCRIPTION:
URL:https://northshorefoundation.org/event/10th-anniversary-breakfast/
LOCATION:Maritime Museum Louisiana
ATTACH;FMTTYPE=image/png:https://northshorefoundation.org/wp-content/uploads/2025/04/fam-reach-breakfast.png
END:VEVENT
BEGIN:VEVENT
DTSTART;TZID=America/Chicago:20250509T170000
DTEND;TZID=America/Chicago:20250509T203000
DTSTAMP:20260425T104814
CREATED:20250415T175116Z
LAST-MODIFIED:20250415T175116Z
UID:2036-1746810000-1746822600@northshorefoundation.org
SUMMARY:Night at the Museum
DESCRIPTION:
URL:https://northshorefoundation.org/event/night-at-the-museum-2/
LOCATION:Children’s Museum of St. Tammany
ATTACH;FMTTYPE=image/png:https://northshorefoundation.org/wp-content/uploads/2025/04/cmst.png
END:VEVENT
BEGIN:VEVENT
DTSTART;VALUE=DATE:20250510
DTEND;VALUE=DATE:20250511
DTSTAMP:20260425T104814
CREATED:20250415T185448Z
LAST-MODIFIED:20250415T185448Z
UID:2043-1746835200-1746921599@northshorefoundation.org
SUMMARY:Stamp out Hunger Day
DESCRIPTION:
URL:https://northshorefoundation.org/event/stamp-out-hunger-day/
LOCATION:No venue
ATTACH;FMTTYPE=image/jpeg:https://northshorefoundation.org/wp-content/uploads/2025/04/stamp-out-hunger.jpg
END:VEVENT
BEGIN:VEVENT
DTSTART;TZID=America/Chicago:20250510T080000
DTEND;TZID=America/Chicago:20250510T113000
DTSTAMP:20260425T104814
CREATED:20250415T200912Z
LAST-MODIFIED:20250415T200912Z
UID:2053-1746864000-1746876600@northshorefoundation.org
SUMMARY:Northshore Heart Walk
DESCRIPTION:
URL:https://northshorefoundation.org/event/northshore-heart-walk/
LOCATION:Covington Trailhead
ATTACH;FMTTYPE=image/png:https://northshorefoundation.org/wp-content/uploads/2025/04/heart-walk-updated.png
END:VEVENT
BEGIN:VEVENT
DTSTART;TZID=America/Chicago:20250510T090000
DTEND;TZID=America/Chicago:20250510T120000
DTSTAMP:20260425T104814
CREATED:20250423T181651Z
LAST-MODIFIED:20250423T181651Z
UID:2069-1746867600-1746878400@northshorefoundation.org
SUMMARY:Spring Day of Action
DESCRIPTION:
URL:https://northshorefoundation.org/event/spring-day-of-action/
LOCATION:Safe Haven Campus
ATTACH;FMTTYPE=image/jpeg:https://northshorefoundation.org/wp-content/uploads/2025/04/united-way.jpg
END:VEVENT
BEGIN:VEVENT
DTSTART;TZID=America/Chicago:20250513T100000
DTEND;TZID=America/Chicago:20250513T120000
DTSTAMP:20260425T104814
CREATED:20250423T190445Z
LAST-MODIFIED:20250423T190445Z
UID:2072-1747130400-1747137600@northshorefoundation.org
SUMMARY:Mental Health & Wellness Fair
DESCRIPTION:
URL:https://northshorefoundation.org/event/mental-health-wellness-fair/
LOCATION:Tammany Oaks Church of Christ
ATTACH;FMTTYPE=image/jpeg:https://northshorefoundation.org/wp-content/uploads/2025/04/mental-health-fair.jpg
END:VEVENT
BEGIN:VEVENT
DTSTART;TZID=America/Chicago:20250513T100000
DTEND;TZID=America/Chicago:20250513T160000
DTSTAMP:20260425T104814
CREATED:20250228T152501Z
LAST-MODIFIED:20250228T152501Z
UID:1872-1747130400-1747152000@northshorefoundation.org
SUMMARY:23rd Annual Golf Tournament
DESCRIPTION:
URL:https://northshorefoundation.org/event/23rd-annual-golf-tournament/
LOCATION:Beau Chene Country Club
ATTACH;FMTTYPE=image/png:https://northshorefoundation.org/wp-content/uploads/2025/02/Untitled-1000-x-485-px.png
END:VEVENT
BEGIN:VEVENT
DTSTART;TZID=America/Chicago:20250515T120000
DTEND;TZID=America/Chicago:20250515T130000
DTSTAMP:20260425T104814
CREATED:20250415T201512Z
LAST-MODIFIED:20250415T201512Z
UID:2062-1747310400-1747314000@northshorefoundation.org
SUMMARY:Webinar: What Happens When Farmers Get Hurt\, Sick\, or Burned Out?
DESCRIPTION:
URL:https://northshorefoundation.org/event/webinar-what-happens-when-farmers-get-hurt-sick-or-burned-out/
LOCATION:Online
ATTACH;FMTTYPE=image/png:https://northshorefoundation.org/wp-content/uploads/2025/04/agrisafe.png
END:VEVENT
BEGIN:VEVENT
DTSTART;TZID=America/Chicago:20250517T090000
DTEND;TZID=America/Chicago:20250517T120000
DTSTAMP:20260425T104814
CREATED:20250228T152929Z
LAST-MODIFIED:20250228T152929Z
UID:1875-1747472400-1747483200@northshorefoundation.org
SUMMARY:NAMIWalks
DESCRIPTION:
URL:https://northshorefoundation.org/event/namiwalks/
LOCATION:Safe Haven Campus
ATTACH;FMTTYPE=image/jpeg:https://northshorefoundation.org/wp-content/uploads/2025/02/nami-walks.jpg
END:VEVENT
BEGIN:VEVENT
DTSTART;TZID=America/Chicago:20250523T080000
DTEND;TZID=America/Chicago:20250525T170000
DTSTAMP:20260425T104814
CREATED:20250415T185316Z
LAST-MODIFIED:20250415T185316Z
UID:2039-1747987200-1748192400@northshorefoundation.org
SUMMARY:State Summer Games 2025
DESCRIPTION:
URL:https://northshorefoundation.org/event/state-summer-games-2025/
LOCATION:Southeastern Louisiana University
ATTACH;FMTTYPE=image/jpeg:https://northshorefoundation.org/wp-content/uploads/2025/04/special-olympics.jpg
END:VEVENT
END:VCALENDAR