BEGIN:VCALENDAR
VERSION:2.0
PRODID:-//Northshore Community Foundation - ECPv6.15.20//NONSGML v1.0//EN
CALSCALE:GREGORIAN
METHOD:PUBLISH
X-WR-CALNAME:Northshore Community Foundation
X-ORIGINAL-URL:https://northshorefoundation.org
X-WR-CALDESC:Events for Northshore Community Foundation
REFRESH-INTERVAL;VALUE=DURATION:PT1H
X-Robots-Tag:noindex
X-PUBLISHED-TTL:PT1H
BEGIN:VTIMEZONE
TZID:America/Chicago
BEGIN:DAYLIGHT
TZOFFSETFROM:-0600
TZOFFSETTO:-0500
TZNAME:CDT
DTSTART:20240310T080000
END:DAYLIGHT
BEGIN:STANDARD
TZOFFSETFROM:-0500
TZOFFSETTO:-0600
TZNAME:CST
DTSTART:20241103T070000
END:STANDARD
BEGIN:DAYLIGHT
TZOFFSETFROM:-0600
TZOFFSETTO:-0500
TZNAME:CDT
DTSTART:20250309T080000
END:DAYLIGHT
BEGIN:STANDARD
TZOFFSETFROM:-0500
TZOFFSETTO:-0600
TZNAME:CST
DTSTART:20251102T070000
END:STANDARD
BEGIN:DAYLIGHT
TZOFFSETFROM:-0600
TZOFFSETTO:-0500
TZNAME:CDT
DTSTART:20260308T080000
END:DAYLIGHT
BEGIN:STANDARD
TZOFFSETFROM:-0500
TZOFFSETTO:-0600
TZNAME:CST
DTSTART:20261101T070000
END:STANDARD
END:VTIMEZONE
BEGIN:VEVENT
DTSTART;VALUE=DATE:20250901
DTEND;VALUE=DATE:20251001
DTSTAMP:20260422T194138
CREATED:20250825T170330Z
LAST-MODIFIED:20250825T170330Z
UID:2362-1756684800-1759276799@northshorefoundation.org
SUMMARY:Hunger Action Month
DESCRIPTION:
URL:https://northshorefoundation.org/event/hunger-action-month/
ATTACH;FMTTYPE=image/jpeg:https://northshorefoundation.org/wp-content/uploads/2025/08/9.jpg
END:VEVENT
BEGIN:VEVENT
DTSTART;TZID=America/Chicago:20250908T090000
DTEND;TZID=America/Chicago:20250908T110000
DTSTAMP:20260422T194138
CREATED:20250825T170453Z
LAST-MODIFIED:20250825T170453Z
UID:2366-1757322000-1757329200@northshorefoundation.org
SUMMARY:988 Day
DESCRIPTION:
URL:https://northshorefoundation.org/event/988-day/
LOCATION:Louisiana State Capitol
ATTACH;FMTTYPE=image/jpeg:https://northshorefoundation.org/wp-content/uploads/2025/08/5.jpg
END:VEVENT
BEGIN:VEVENT
DTSTART;TZID=America/Chicago:20250910T113000
DTEND;TZID=America/Chicago:20250910T130000
DTSTAMP:20260422T194138
CREATED:20250825T170636Z
LAST-MODIFIED:20250825T170636Z
UID:2370-1757503800-1757509200@northshorefoundation.org
SUMMARY:Birthday Card Art Reception
DESCRIPTION:
URL:https://northshorefoundation.org/event/birthday-card-art-reception/
LOCATION:Heritage Bank Atrium
ATTACH;FMTTYPE=image/jpeg:https://northshorefoundation.org/wp-content/uploads/2025/08/7.jpg
END:VEVENT
BEGIN:VEVENT
DTSTART;VALUE=DATE:20250912
DTEND;VALUE=DATE:20250922
DTSTAMP:20260422T194138
CREATED:20250825T170809Z
LAST-MODIFIED:20250825T170809Z
UID:2375-1757635200-1758499199@northshorefoundation.org
SUMMARY:Tuesdays with Morrie
DESCRIPTION:
URL:https://northshorefoundation.org/event/tuesdays-with-morrie/
LOCATION:30 by Ninety Theatre\, 880 Lafayette St.\, Mandeville\, Louisiana\, 70448
ATTACH;FMTTYPE=image/jpeg:https://northshorefoundation.org/wp-content/uploads/2025/08/2.jpg
ORGANIZER;CN="30 by Ninety Theatre":MAILTO:info@30byninety.com
END:VEVENT
BEGIN:VEVENT
DTSTART;TZID=America/Chicago:20250916T180000
DTEND;TZID=America/Chicago:20250916T193000
DTSTAMP:20260422T194138
CREATED:20250825T171001Z
LAST-MODIFIED:20250825T171001Z
UID:2378-1758045600-1758051000@northshorefoundation.org
SUMMARY:Human Trafficking 101: Awareness & Reporting
DESCRIPTION:
URL:https://northshorefoundation.org/event/human-trafficking-101-awareness-reporting/
LOCATION:Children’s Advocacy Center – Hope House
ATTACH;FMTTYPE=image/jpeg:https://northshorefoundation.org/wp-content/uploads/2025/08/11.jpg
END:VEVENT
BEGIN:VEVENT
DTSTART;TZID=America/Chicago:20250917T170000
DTEND;TZID=America/Chicago:20250917T200000
DTSTAMP:20260422T194138
CREATED:20250825T171122Z
LAST-MODIFIED:20250825T171122Z
UID:2381-1758128400-1758139200@northshorefoundation.org
SUMMARY:Together We Triumph Cancer Series: Thriving in Survivorship
DESCRIPTION:
URL:https://northshorefoundation.org/event/together-we-triumph-cancer-series-thriving-in-survivorship/
LOCATION:Greater Covington Center
ATTACH;FMTTYPE=image/jpeg:https://northshorefoundation.org/wp-content/uploads/2025/08/6.jpg
END:VEVENT
BEGIN:VEVENT
DTSTART;TZID=America/Chicago:20250919T200000
DTEND;TZID=America/Chicago:20250919T230000
DTSTAMP:20260422T194138
CREATED:20250825T171258Z
LAST-MODIFIED:20250825T171258Z
UID:2385-1758312000-1758322800@northshorefoundation.org
SUMMARY:Justice For All Ball
DESCRIPTION:
URL:https://northshorefoundation.org/event/justice-for-all-ball/
LOCATION:Orpheum Theater
ATTACH;FMTTYPE=image/jpeg:https://northshorefoundation.org/wp-content/uploads/2025/08/12.jpg
END:VEVENT
BEGIN:VEVENT
DTSTART;TZID=America/Chicago:20250920T090000
DTEND;TZID=America/Chicago:20250920T130000
DTSTAMP:20260422T194138
CREATED:20250825T171422Z
LAST-MODIFIED:20250825T171422Z
UID:2389-1758358800-1758373200@northshorefoundation.org
SUMMARY:One Step At A Time 5K
DESCRIPTION:
URL:https://northshorefoundation.org/event/one-step-at-a-time-5k/
LOCATION:Abita Springs Trailhead
ATTACH;FMTTYPE=image/jpeg:https://northshorefoundation.org/wp-content/uploads/2025/08/1.jpg
END:VEVENT
BEGIN:VEVENT
DTSTART;TZID=America/Chicago:20250920T190000
DTEND;TZID=America/Chicago:20250920T220000
DTSTAMP:20260422T194138
CREATED:20250825T171536Z
LAST-MODIFIED:20250825T171536Z
UID:2393-1758394800-1758405600@northshorefoundation.org
SUMMARY:City Park Night
DESCRIPTION:
URL:https://northshorefoundation.org/event/city-park-night/
LOCATION:City Park
ATTACH;FMTTYPE=image/jpeg:https://northshorefoundation.org/wp-content/uploads/2025/08/10.jpg
END:VEVENT
BEGIN:VEVENT
DTSTART;VALUE=DATE:20250926
DTEND;VALUE=DATE:20250929
DTSTAMP:20260422T194138
CREATED:20250825T171933Z
LAST-MODIFIED:20250825T171933Z
UID:2402-1758844800-1759103999@northshorefoundation.org
SUMMARY:Ladies' Beach Retreat
DESCRIPTION:
URL:https://northshorefoundation.org/event/ladies-beach-retreat/
LOCATION:Navarre Beach
ATTACH;FMTTYPE=image/jpeg:https://northshorefoundation.org/wp-content/uploads/2025/08/3.jpg
END:VEVENT
BEGIN:VEVENT
DTSTART;VALUE=DATE:20250926
DTEND;VALUE=DATE:20251122
DTSTAMP:20260422T194138
CREATED:20250825T171745Z
LAST-MODIFIED:20250825T171745Z
UID:2398-1758844800-1763769599@northshorefoundation.org
SUMMARY:Women Build
DESCRIPTION:
URL:https://northshorefoundation.org/event/women-build/
ATTACH;FMTTYPE=image/jpeg:https://northshorefoundation.org/wp-content/uploads/2025/08/4.jpg
END:VEVENT
END:VCALENDAR